Workbook

Sheet Raccolta dati
C1: MODULO DI RICHIESTA D'ACQUISTO
I5: M156.01 23/04/2026
A8: RACCOLTA DATI CLIENTE
A10: Ragione sociale
A11: Indirizzo sede legale
A12: Città | F12: CAP
A13: Nazione | F13: Regione
A14: Telefono | F14: Fax
A15: E-mail | F15: PEC
A16: C.F. | F16: P.IVA
A17: Codice SDI | F17: Endpoint ordini NSO
A19: Indirizzo per invio merce
A20: Città | F20: CAP
A21: Nazione | F21: Regione
A23: Contatti
A25: Contatto Referente Ufficio Acquisti
A27: Contatto Referente Ufficio Amministrativo
A29: Estremi bancari
A31: Banca
A32: Agenzia
A33: ABI
A34: CIN
A35: Swift/BIC
A36: Città
A37: CAB
A38: C/C
A39: IBAN

Sheet Ordine prodotti
B1: MODULO DI RICHIESTA D'ACQUISTO
D4: M156.01 23/04/2026
A5: Selezionare il prodotto di interesse dal menu a tendina delle celle nella colonna "codice prodotto". Spuntare la casella se si desidera richiedere il servizio di titolazione. Indicare la quantità desiderata nella colonna "Q.tà".
A9: Codice prodotto | B9: Descrizione prodotto | C9: Servizio di titolazione (cfu/u) | D9: Q.ty
B10: =_xlfn.XLOOKUP(A10, Foglio1!B:B,Foglio1!D:D) -> 0 | C10: FALSE
B11: =_xlfn.XLOOKUP(A11, Foglio1!B:B,Foglio1!D:D) -> 0 | C11: FALSE
B12: =_xlfn.XLOOKUP(A12, Foglio1!B:B,Foglio1!D:D) -> 0 | C12: FALSE
B13: =_xlfn.XLOOKUP(A13, Foglio1!B:B,Foglio1!D:D) -> 0 | C13: FALSE
B14: =_xlfn.XLOOKUP(A14, Foglio1!B:B,Foglio1!D:D) -> 0 | C14: FALSE
B15: =_xlfn.XLOOKUP(A15, Foglio1!B:B,Foglio1!D:D) -> 0 | C15: FALSE
B16: =_xlfn.XLOOKUP(A16, Foglio1!B:B,Foglio1!D:D) -> 0 | C16: FALSE
B17: =_xlfn.XLOOKUP(A17, Foglio1!B:B,Foglio1!D:D) -> 0 | C17: FALSE
B18: =_xlfn.XLOOKUP(A18, Foglio1!B:B,Foglio1!D:D) -> 0 | C18: FALSE
B19: =_xlfn.XLOOKUP(A19, Foglio1!B:B,Foglio1!D:D) -> 0 | C19: FALSE
B20: =_xlfn.XLOOKUP(A20, Foglio1!B:B,Foglio1!D:D) -> 0 | C20: FALSE
B21: =_xlfn.XLOOKUP(A21, Foglio1!B:B,Foglio1!D:D) -> 0 | C21: FALSE
... B45: =_xlfn.XLOOKUP(A45, Foglio1!B:B,Foglio1!D:D) -> 0 | C45: FALSE

Sheet Foglio1
B3: CBD00445 | D3: Bacillus cereus K250 ISM 99/10 (NCTC 10989) - 10 disks
B4: CBD00450 | D4: Bacillus cereus ISM 66/10 (ATCC 11778) - 10 disks
B5: CBD00710 | D5: Bacillus stearothermophilus var. calidolactis c953 ISM 80/36 - 10 disks
B6: CBD00820 | D6: Bacillus subtilis spp. spizizenii ISM 68/53 (ATCC 6633) - 10 disks
B7: CBD01050 | D7: Bordetella bronchiseptica ISM 68/55 (ATCC 4617) - 10 disks
B8: CBD01130 | D8: Moraxella catarrhalis ISM 70/23 (ATCC 8176) - 10 disks
B9: CBD02180 | D9: Klebsiella aerogenes ISM 82/33 (ATCC 13048) - 10 disks
B10: CBD02210 | D10: Enterobacter cloacae ISM 80/14 (ATCC 23355) - 10 disks
B11: CBD02700 | D11: Escherichia coli ISM 76/11 (ATCC 25922) - 10 disks
B12: CBD02710 | D12: Escherichia coli ISM 76/31 (ATCC 8739) - 10 disks
B13: CBD03385 | D13: Listeria monocytogenes ISM 99/19 (ATCC 35152) - 10 disks
B14: CBD03395 | D14: Listeria monocytogenes ISM 99/14 (ATCC 7644) - 10 disks
... B93: CMP01420S | D93: Saccharomyces cerevisiae ISM 68/119 (ATCC 9763) - single pellet
